BEGIN:VCALENDAR
VERSION:2.0
PRODID:-//AMCA - ECPv6.15.17.1//NONSGML v1.0//EN
CALSCALE:GREGORIAN
METHOD:PUBLISH
X-WR-CALNAME:AMCA
X-ORIGINAL-URL:https://amcaaz.com/contents
X-WR-CALDESC:Events for AMCA
REFRESH-INTERVAL;VALUE=DURATION:PT1H
X-Robots-Tag:noindex
X-PUBLISHED-TTL:PT1H
BEGIN:VTIMEZONE
TZID:UTC
BEGIN:STANDARD
TZOFFSETFROM:+0000
TZOFFSETTO:+0000
TZNAME:UTC
DTSTART:20250101T000000
END:STANDARD
END:VTIMEZONE
BEGIN:VEVENT
DTSTART;TZID=UTC:20260226T150000
DTEND;TZID=UTC:20260507T163000
DTSTAMP:20260421T133854
CREATED:20260119T211209Z
LAST-MODIFIED:20260407T172656Z
UID:13832-1772118000-1778171400@amcaaz.com
SUMMARY:BUILD YOUR CONSTRUCTION BUSINESS _ 2026 Financial Literacy Series
DESCRIPTION:Register Today!\nJoin us for an exclusive 6-session financial literacy course designed to help construction business leaders master the financial strategies that drive long-term success. This virtual series will provide invaluable insights and practical tools\, whether you’re a CEO\, CFO\, accounting professional\, or project manager. Gain the knowledge you need to increase profitability\, optimize cash flow\, and build stronger business relationships. \nWho Should Attend? \n\nCEOs and CFOs looking to improve financial management and cash flow strategies\nAccounting professionals aiming to strengthen their understanding of construction-specific financial tools and reporting\nProject managers and estimators who want to enhance their financial literacy and learn how to better manage construction projects from a financial perspective\n\nWhy Attend? \nThis series is designed to help you master the financial side of running a construction business. From managing cash flow to optimizing your payment processes and understanding profits\, these sessions are packed with expert insights and proven strategies to make your business more profitable\, efficient\, and resilient. \n\nRegister today to secure your spot in this exclusive series and start building a stronger financial future for your business!  \n \nCourse Schedule & Topics: \n\nFebruary 26 – Stop Living Job-To-Job By Mastering Your Cashflow\n\nPresented by: Chris Pellegrini\, Price Kong (2 years in May)\n\nDegrees\, accreditations: Bachelor of Science in Accountancy\, Certified Public Accountant\nTitle: CAAS Director\n25 years of industry experience in construction and lending\n\n\n\n\n\n\nMarch 12 – Get Paid Faster: Secrets to a Powerful Schedule of Values\n\nPresented by: Patti Olds\, Kuniklo Corporation (22 years)\n\nDegrees\, accreditations: BA\, MBA\, MCA\nTitle: President & CEO\, Kuniklo Corporation\nOver 20 years of industry experience\n\n\nPresented by: Anthony Davenport Davenport Management & Consulting\, LLC (8 years)\n\nDegrees\, accreditations: Proscii Certified Change Practioner\nTitle: President – Principal Consultant\nOver 35 years in Construction\, Engineering and Management\n\n\n\n\n\n\nMarch 26 – Know Your True Profits: Work In Progress Simplified\n\nPresented by: Fredy Hernandez\, Morrison & Clark\n\nDegrees\, accreditations: CPA\, CCIFP\nTitle: Commercial Assurance Manager\n10 years in construction accounting\n\n\nPresented by: Nick Duckworth\, INSURICA (4 years)\n\nDegrees\, accreditations: Associates in Fidelity & Surety Bonding (AFSB)\nTitle: Bond Producer\n7 years in the industry\n\n\n\n\n\n\nApril 9 – Never Miss A Payment: Bulletproof Your Pay Applications\n\nPresented by: Anthony Davenport Davenport Management & Consulting\, LLC (8 years)\n\nDegrees\, accreditations: Proscii Certified Change Practioner\nTitle: President – Principal Consultant\nOver 35 years in Construction\, Engineering and Management\n\n\n\n\n\n\nApril 23 – Keep More of What You Earn\n\nPresented by: Ross Dietrich\, Price Kong (20 years)\n\nDegrees\, accreditations: CPA\, CIT\nTitle: Managing Partner\n20 years of industry experience\n\n\n\n\n\n\nMay 7 – Define Your Banking and Surety Plan: Build Business Relationships\n\nPresented by: Fredy Hernandez\, Morrison & Clark\n\nDegrees\, accreditations: CPA\, CCIFP\nTitle: Commercial Assurance Manager\n10 years in construction accountin\n\n\nPresented by: Nick Duckworth\, INSURICA (4 years)\n\nDegrees\, accreditations: Associates in Fidelity & Surety Bonding (AFSB)\nTitle: Bond Producer\n7 years in the industry\n\n\nPresented by: TBD\, National Bank of Arizona
URL:https://amcaaz.com/contents/event/build-your-construction-business-_-financial-literacy-series/
LOCATION:AZ
END:VEVENT
END:VCALENDAR